BEGIN:VCALENDAR
VERSION:2.0
PRODID:-//Natural Birth Center &amp; Women&#039;s Wellness - ECPv4.9.12//NONSGML v1.0//EN
CALSCALE:GREGORIAN
METHOD:PUBLISH
X-WR-CALNAME:Natural Birth Center &amp; Women&#039;s Wellness
X-ORIGINAL-URL:http://naturalbirthcenter.com
X-WR-CALDESC:Events for Natural Birth Center &amp; Women&#039;s Wellness
BEGIN:VTIMEZONE
TZID:America/Los_Angeles
BEGIN:DAYLIGHT
TZOFFSETFROM:-0800
TZOFFSETTO:-0700
TZNAME:PDT
DTSTART:20160313T100000
END:DAYLIGHT
BEGIN:STANDARD
TZOFFSETFROM:-0700
TZOFFSETTO:-0800
TZNAME:PST
DTSTART:20161106T090000
END:STANDARD
END:VTIMEZONE
BEGIN:VEVENT
DTSTART;TZID=America/Los_Angeles:20160505T190000
DTEND;TZID=America/Los_Angeles:20160505T203000
DTSTAMP:20260422T220550
CREATED:20160114T181535Z
LAST-MODIFIED:20160407T191907Z
UID:1693-1462474800-1462480200@naturalbirthcenter.com
SUMMARY:The AfterBirth Plan
DESCRIPTION:The AfterBirth PlanTM \n@Natural Birth Center & Women’s Wellness \nMay 5th\, 2016 7pm -8:30pm  \n432 S. San Vincente Ste #250 \nLos Angeles\, CA 90048 \nDownload Course Flyer \nDr. Alyssa Berlin\, PsyD \nDr. Alyssa Berlin is a prenatal and postpartum clinical psychologist. Dr. Berlin works specifically with women and their partners on issues such as anxiousness and emotional fluctuation during pregnancy\, postpartum blues and depression\, and the complex issues that can arise between and around new and expectant parents. \nThis workshop can be taked privately or in a group setting. For more information or to register call: 323 549-0070 \n
URL:http://naturalbirthcenter.com/event/the-afterbirth-plan/
LOCATION:Natural Birth Center & Women’s Wellness\, 432 S. San Vicente Blvd\, Suite 250\, Los Angeles\, CA\, 90048\, United States
ATTACH;FMTTYPE=image/png:http://naturalbirthcenter.com/wp-content/uploads/2016/01/After-birth-plan-top.png
END:VEVENT
END:VCALENDAR